BEGIN:VCALENDAR
VERSION:2.0
PRODID:-//Acacia DëQueer - ECPv6.15.20//NONSGML v1.0//EN
CALSCALE:GREGORIAN
METHOD:PUBLISH
X-ORIGINAL-URL:https://acacia.gay
X-WR-CALDESC:Events for Acacia DëQueer
REFRESH-INTERVAL;VALUE=DURATION:PT1H
X-Robots-Tag:noindex
X-PUBLISHED-TTL:PT1H
BEGIN:VTIMEZONE
TZID:Europe/London
BEGIN:DAYLIGHT
TZOFFSETFROM:+0000
TZOFFSETTO:+0100
TZNAME:BST
DTSTART:20230326T010000
END:DAYLIGHT
BEGIN:STANDARD
TZOFFSETFROM:+0100
TZOFFSETTO:+0000
TZNAME:GMT
DTSTART:20231029T010000
END:STANDARD
BEGIN:DAYLIGHT
TZOFFSETFROM:+0000
TZOFFSETTO:+0100
TZNAME:BST
DTSTART:20240331T010000
END:DAYLIGHT
BEGIN:STANDARD
TZOFFSETFROM:+0100
TZOFFSETTO:+0000
TZNAME:GMT
DTSTART:20241027T010000
END:STANDARD
BEGIN:DAYLIGHT
TZOFFSETFROM:+0000
TZOFFSETTO:+0100
TZNAME:BST
DTSTART:20250330T010000
END:DAYLIGHT
BEGIN:STANDARD
TZOFFSETFROM:+0100
TZOFFSETTO:+0000
TZNAME:GMT
DTSTART:20251026T010000
END:STANDARD
END:VTIMEZONE
BEGIN:VTIMEZONE
TZID:America/Phoenix
BEGIN:STANDARD
TZOFFSETFROM:-0700
TZOFFSETTO:-0700
TZNAME:MST
DTSTART:20220101T000000
END:STANDARD
END:VTIMEZONE
BEGIN:VTIMEZONE
TZID:America/Los_Angeles
BEGIN:DAYLIGHT
TZOFFSETFROM:-0800
TZOFFSETTO:-0700
TZNAME:PDT
DTSTART:20220313T100000
END:DAYLIGHT
BEGIN:STANDARD
TZOFFSETFROM:-0700
TZOFFSETTO:-0800
TZNAME:PST
DTSTART:20221106T090000
END:STANDARD
BEGIN:DAYLIGHT
TZOFFSETFROM:-0800
TZOFFSETTO:-0700
TZNAME:PDT
DTSTART:20230312T100000
END:DAYLIGHT
BEGIN:STANDARD
TZOFFSETFROM:-0700
TZOFFSETTO:-0800
TZNAME:PST
DTSTART:20231105T090000
END:STANDARD
BEGIN:DAYLIGHT
TZOFFSETFROM:-0800
TZOFFSETTO:-0700
TZNAME:PDT
DTSTART:20240310T100000
END:DAYLIGHT
BEGIN:STANDARD
TZOFFSETFROM:-0700
TZOFFSETTO:-0800
TZNAME:PST
DTSTART:20241103T090000
END:STANDARD
END:VTIMEZONE
BEGIN:VTIMEZONE
TZID:America/New_York
BEGIN:DAYLIGHT
TZOFFSETFROM:-0500
TZOFFSETTO:-0400
TZNAME:EDT
DTSTART:20220313T070000
END:DAYLIGHT
BEGIN:STANDARD
TZOFFSETFROM:-0400
TZOFFSETTO:-0500
TZNAME:EST
DTSTART:20221106T060000
END:STANDARD
BEGIN:DAYLIGHT
TZOFFSETFROM:-0500
TZOFFSETTO:-0400
TZNAME:EDT
DTSTART:20230312T070000
END:DAYLIGHT
BEGIN:STANDARD
TZOFFSETFROM:-0400
TZOFFSETTO:-0500
TZNAME:EST
DTSTART:20231105T060000
END:STANDARD
BEGIN:DAYLIGHT
TZOFFSETFROM:-0500
TZOFFSETTO:-0400
TZNAME:EDT
DTSTART:20240310T070000
END:DAYLIGHT
BEGIN:STANDARD
TZOFFSETFROM:-0400
TZOFFSETTO:-0500
TZNAME:EST
DTSTART:20241103T060000
END:STANDARD
END:VTIMEZONE
BEGIN:VEVENT
DTSTART;TZID=Europe/London:20240314T203500
DTEND;TZID=Europe/London:20240314T223000
DTSTAMP:20260421T111415
CREATED:20240213T183109Z
LAST-MODIFIED:20240213T183214Z
UID:11182-1710448500-1710455400@acacia.gay
SUMMARY:Friends of Sophia - BFI Flare
DESCRIPTION:Watch Friends of Sophia at the BFI Flare London LGBTQIA+ Film Festival on Thursday March 14th at 8:35 pm. Friends of Sophia will be featured… Continue reading → Friends of Sophia – BFI Flare
URL:https://acacia.gay/event/friends-of-sophia-bfi-flare/
CATEGORIES:Screening
ATTACH;FMTTYPE=image/jpeg:https://acacia.gay/wp-content/uploads/2024/02/BFI-Flare-Friends-of-Sophia.jpg
END:VEVENT
BEGIN:VEVENT
DTSTART;TZID=America/Phoenix:20230623T152000
DTEND;TZID=America/Phoenix:20230623T164000
DTSTAMP:20260421T111415
CREATED:20230521T173421Z
LAST-MODIFIED:20230521T173421Z
UID:8767-1687533600-1687538400@acacia.gay
SUMMARY:Perfectly Good Moment - Nevada Women's Film Festival
DESCRIPTION:Watch Friends of Sophia at the BFI Flare London LGBTQIA+ Film Festival on Thursday March 14th at 8:35 pm. Friends of Sophia will be featured… Continue reading → Friends of Sophia – BFI Flare
URL:https://acacia.gay/event/perfectly-good-moment-nwff/
LOCATION:University of Nevada\, Las Vegas\, UNLV – ROOM 1 University of Nevada\, Las Vegas Flora Dungan Humanities 4505 S Maryland Pkwy\, Las Vegas\, NV\, 89154\, United States
CATEGORIES:Screening
ATTACH;FMTTYPE=image/jpeg:https://acacia.gay/wp-content/uploads/2023/04/img_2070.jpg
END:VEVENT
BEGIN:VEVENT
DTSTART;TZID=America/Los_Angeles:20230618T200000
DTEND;TZID=America/Los_Angeles:20230702T233000
DTSTAMP:20260421T111415
CREATED:20230521T223210Z
LAST-MODIFIED:20230521T223210Z
UID:8772-1687118400-1688340600@acacia.gay
SUMMARY:As You Are - Frameline47
DESCRIPTION:Watch Friends of Sophia at the BFI Flare London LGBTQIA+ Film Festival on Thursday March 14th at 8:35 pm. Friends of Sophia will be featured… Continue reading → Friends of Sophia – BFI Flare
URL:https://acacia.gay/event/as-you-are-frameline47/
LOCATION:New Parkway Theater\, 474 24th St\, CA\, Oakland\, CA\, 94612\, United States
CATEGORIES:Screening
ATTACH;FMTTYPE=image/jpeg:https://acacia.gay/wp-content/uploads/2023/03/aya_nffty.jpeg
END:VEVENT
BEGIN:VEVENT
DTSTART;VALUE=DATE:20230601
DTEND;VALUE=DATE:20230605
DTSTAMP:20260421T111415
CREATED:20230429T140023Z
LAST-MODIFIED:20230429T153002Z
UID:8693-1685577600-1685923199@acacia.gay
SUMMARY:As You Are - Berkshire International Film Festival
DESCRIPTION:Watch Friends of Sophia at the BFI Flare London LGBTQIA+ Film Festival on Thursday March 14th at 8:35 pm. Friends of Sophia will be featured… Continue reading → Friends of Sophia – BFI Flare
URL:https://acacia.gay/event/as-you-are-biff/
LOCATION:Berkshire International Film Festival\, Great Barrington\, MA\, United States
CATEGORIES:Screening
ATTACH;FMTTYPE=image/jpeg:https://acacia.gay/wp-content/uploads/2023/03/aya_nffty.jpeg
END:VEVENT
BEGIN:VEVENT
DTSTART;TZID=America/New_York:20230518T204500
DTEND;TZID=America/New_York:20230518T223000
DTSTAMP:20260421T111415
CREATED:20230429T160825Z
LAST-MODIFIED:20230429T210107Z
UID:8709-1684442700-1684449000@acacia.gay
SUMMARY:Perfectly Good Moment - Fort Myers Film Festival
DESCRIPTION:Watch Friends of Sophia at the BFI Flare London LGBTQIA+ Film Festival on Thursday March 14th at 8:35 pm. Friends of Sophia will be featured… Continue reading → Friends of Sophia – BFI Flare
URL:https://acacia.gay/event/perfectly-good-moment-fmff/
LOCATION:Sidney and Berne Davis Art Center\, 2301 First Street\, Fort Myers\, FL\, 33901\, United States
CATEGORIES:Screening
ATTACH;FMTTYPE=image/jpeg:https://acacia.gay/wp-content/uploads/2023/04/img_2067.jpg
END:VEVENT
BEGIN:VEVENT
DTSTART;TZID=America/New_York:20230518T150000
DTEND;TZID=America/New_York:20230518T161500
DTSTAMP:20260421T111415
CREATED:20230429T151653Z
LAST-MODIFIED:20230429T210150Z
UID:8699-1684422000-1684426500@acacia.gay
SUMMARY:Perfectly Good Moment - Philadelphia Independent Film Festival
DESCRIPTION:Watch Friends of Sophia at the BFI Flare London LGBTQIA+ Film Festival on Thursday March 14th at 8:35 pm. Friends of Sophia will be featured… Continue reading → Friends of Sophia – BFI Flare
URL:https://acacia.gay/event/perfectly-good-moment-piff-2/
LOCATION:Canal Street Film Center\, 924 Canal Street\, Philadelphia\, PA\, 19123\, United States
CATEGORIES:Screening
ATTACH;FMTTYPE=image/jpeg:https://acacia.gay/wp-content/uploads/2023/04/img_2067.jpg
END:VEVENT
BEGIN:VEVENT
DTSTART;VALUE=DATE:20230427
DTEND;VALUE=DATE:20230508
DTSTAMP:20260421T111415
CREATED:20230428T184403Z
LAST-MODIFIED:20230429T152519Z
UID:8654-1682553600-1683503999@acacia.gay
SUMMARY:As You Are - National Film Festival for Talented Youth
DESCRIPTION:Watch Friends of Sophia at the BFI Flare London LGBTQIA+ Film Festival on Thursday March 14th at 8:35 pm. Friends of Sophia will be featured… Continue reading → Friends of Sophia – BFI Flare
URL:https://acacia.gay/event/as-you-are-nffty/
LOCATION:National Film Festival For Talented Youth\, Virtual\, Seattle\, WA
CATEGORIES:Screening
ATTACH;FMTTYPE=image/jpeg:https://acacia.gay/wp-content/uploads/2023/03/aya_nffty.jpeg
END:VEVENT
END:VCALENDAR